BEGIN:VCALENDAR
VERSION:2.0
PRODID:-//ZKI - ECPv6.15.20//NONSGML v1.0//EN
CALSCALE:GREGORIAN
METHOD:PUBLISH
X-WR-CALNAME:ZKI
X-ORIGINAL-URL:https://zki.iris-ev.de
X-WR-CALDESC:Veranstaltungen für ZKI
REFRESH-INTERVAL;VALUE=DURATION:PT1H
X-Robots-Tag:noindex
X-PUBLISHED-TTL:PT1H
BEGIN:VTIMEZONE
TZID:Europe/Berlin
BEGIN:DAYLIGHT
TZOFFSETFROM:+0100
TZOFFSETTO:+0200
TZNAME:CEST
DTSTART:20250330T010000
END:DAYLIGHT
BEGIN:STANDARD
TZOFFSETFROM:+0200
TZOFFSETTO:+0100
TZNAME:CET
DTSTART:20251026T010000
END:STANDARD
BEGIN:DAYLIGHT
TZOFFSETFROM:+0100
TZOFFSETTO:+0200
TZNAME:CEST
DTSTART:20260329T010000
END:DAYLIGHT
BEGIN:STANDARD
TZOFFSETFROM:+0200
TZOFFSETTO:+0100
TZNAME:CET
DTSTART:20261025T010000
END:STANDARD
BEGIN:DAYLIGHT
TZOFFSETFROM:+0100
TZOFFSETTO:+0200
TZNAME:CEST
DTSTART:20270328T010000
END:DAYLIGHT
BEGIN:STANDARD
TZOFFSETFROM:+0200
TZOFFSETTO:+0100
TZNAME:CET
DTSTART:20271031T010000
END:STANDARD
END:VTIMEZONE
BEGIN:VEVENT
DTSTART;TZID=Europe/Berlin:20260518T160000
DTEND;TZID=Europe/Berlin:20260518T190000
DTSTAMP:20260422T185605
CREATED:20260328T182310Z
LAST-MODIFIED:20260328T182310Z
UID:8728-1779120000-1779130800@zki.iris-ev.de
SUMMARY:Stärkung neuromotorischer Voraussetzungen für Lernen und  Entwicklung in der Kindheit - Wissen. Erkennen. Anwenden.  Modul 2
DESCRIPTION:Veranstaltung des Kooperationsverbundes ERZ 4 Schwarzenberg \nInhalt\nDie individuellen und gesellschaftlichen Herausforderungen der Kinder nehmen stetig zu. Gleichzeitig – und auch in Folge dessen – zeigen immer mehr Kinder spätestens mit Eintritt in die Schule Schwierigkeiten wie: \n– Unsicherheiten in Körper- und Raumwahrnehmung \n– eingeschränkte Konzentrationsfähigkeit \n– Probleme beim Lesen\, Schreiben und Rechnen lernen \n– motorische Unruhe \n– Verhaltensauffälligkeiten \nDas stellt nicht nur die Kinder\, sondern auch ihre Eltern sowie auch die pädagogischen Fachkräfte in Kita und Schule vor immer größere Probleme. Neue Erklärungsansätze und Lösungsstrategien im häuslichen und pädagogischen Alltag müssen dringend vermittelt und ausprobiert werden. \nAdressatenkreis\nLehrkräfte\, Netzwerkpartnerinnen und -partner
URL:https://zki.iris-ev.de/veranstaltungskalender/staerkung-neuromotorischer-voraussetzungen-fuer-lernen-und-entwicklung-in-der-kindheit-wissen-erkennen-anwenden-modul-2/
LOCATION:Stadtwerke Schwarzenberg\, Straße der Einheit 42\, Schwarzenberg\, 08340
CATEGORIES:Bildungsveranstaltung,in Präsenz,Informationsveranstaltung
END:VEVENT
END:VCALENDAR