BEGIN:VCALENDAR
VERSION:2.0
PRODID:-//ZKI - ECPv6.15.20//NONSGML v1.0//EN
CALSCALE:GREGORIAN
METHOD:PUBLISH
X-WR-CALNAME:ZKI
X-ORIGINAL-URL:https://zki.iris-ev.de
X-WR-CALDESC:Veranstaltungen für ZKI
REFRESH-INTERVAL;VALUE=DURATION:PT1H
X-Robots-Tag:noindex
X-PUBLISHED-TTL:PT1H
BEGIN:VTIMEZONE
TZID:Europe/Berlin
BEGIN:DAYLIGHT
TZOFFSETFROM:+0100
TZOFFSETTO:+0200
TZNAME:CEST
DTSTART:20250330T010000
END:DAYLIGHT
BEGIN:STANDARD
TZOFFSETFROM:+0200
TZOFFSETTO:+0100
TZNAME:CET
DTSTART:20251026T010000
END:STANDARD
BEGIN:DAYLIGHT
TZOFFSETFROM:+0100
TZOFFSETTO:+0200
TZNAME:CEST
DTSTART:20260329T010000
END:DAYLIGHT
BEGIN:STANDARD
TZOFFSETFROM:+0200
TZOFFSETTO:+0100
TZNAME:CET
DTSTART:20261025T010000
END:STANDARD
BEGIN:DAYLIGHT
TZOFFSETFROM:+0100
TZOFFSETTO:+0200
TZNAME:CEST
DTSTART:20270328T010000
END:DAYLIGHT
BEGIN:STANDARD
TZOFFSETFROM:+0200
TZOFFSETTO:+0100
TZNAME:CET
DTSTART:20271031T010000
END:STANDARD
END:VTIMEZONE
BEGIN:VEVENT
DTSTART;TZID=Europe/Berlin:20260311T140000
DTEND;TZID=Europe/Berlin:20260311T170000
DTSTAMP:20260419T152336
CREATED:20260123T223108Z
LAST-MODIFIED:20260123T223108Z
UID:7177-1773237600-1773248400@zki.iris-ev.de
SUMMARY:Netzwerktreffen zum Thema: Kita- und Schulbegleitung
DESCRIPTION:Veranstaltung des Kooperationsverbundes Wurzen \nInhalt\nIn dieser Veranstaltung soll es um die Kita- und Schulbegleitung gehen. Dabei sollen Informationen zur Antragstellung und die erfolgreiche Umsetzung näher beleuchtet werden. \nVerschiedene Anbieter sollen die Möglichkeit haben\, sich vorzustellen. \nAdressatenkreis\nLehrkräfte\, Netzwerkpartnerinnen und -partner
URL:https://zki.iris-ev.de/veranstaltungskalender/netzwerktreffen-zum-thema-kita-und-schulbegleitung/
LOCATION:Tausendfüßler e. V.\, Domgasse 9\, Wurzen\, 04808
CATEGORIES:in Präsenz,Informationsveranstaltung,Netzwerktreffen,öffentlich
END:VEVENT
END:VCALENDAR