BEGIN:VCALENDAR
VERSION:2.0
PRODID:-//ZKI - ECPv6.15.20//NONSGML v1.0//EN
CALSCALE:GREGORIAN
METHOD:PUBLISH
X-WR-CALNAME:ZKI
X-ORIGINAL-URL:https://zki.iris-ev.de
X-WR-CALDESC:Veranstaltungen für ZKI
REFRESH-INTERVAL;VALUE=DURATION:PT1H
X-Robots-Tag:noindex
X-PUBLISHED-TTL:PT1H
BEGIN:VTIMEZONE
TZID:Europe/Berlin
BEGIN:DAYLIGHT
TZOFFSETFROM:+0100
TZOFFSETTO:+0200
TZNAME:CEST
DTSTART:20250330T010000
END:DAYLIGHT
BEGIN:STANDARD
TZOFFSETFROM:+0200
TZOFFSETTO:+0100
TZNAME:CET
DTSTART:20251026T010000
END:STANDARD
BEGIN:DAYLIGHT
TZOFFSETFROM:+0100
TZOFFSETTO:+0200
TZNAME:CEST
DTSTART:20260329T010000
END:DAYLIGHT
BEGIN:STANDARD
TZOFFSETFROM:+0200
TZOFFSETTO:+0100
TZNAME:CET
DTSTART:20261025T010000
END:STANDARD
BEGIN:DAYLIGHT
TZOFFSETFROM:+0100
TZOFFSETTO:+0200
TZNAME:CEST
DTSTART:20270328T010000
END:DAYLIGHT
BEGIN:STANDARD
TZOFFSETFROM:+0200
TZOFFSETTO:+0100
TZNAME:CET
DTSTART:20271031T010000
END:STANDARD
END:VTIMEZONE
BEGIN:VEVENT
DTSTART;TZID=Europe/Berlin:20260107T150000
DTEND;TZID=Europe/Berlin:20260107T170000
DTSTAMP:20260421T005830
CREATED:20251006T211721Z
LAST-MODIFIED:20260119T085842Z
UID:5957-1767798000-1767805200@zki.iris-ev.de
SUMMARY:Netzwerktreffen Kooperationsverbund Zittau
DESCRIPTION:Veranstaltung des Kooperationsverbundes Landkreis Görlitz 4 Zittau \nInhalt\nIch lade Sie bzw. lhre Kolleginnen und Kollegen ganz herzlich zum nächsten Netzwerktreffen im KoopV 4 „Zittau“ ein. Wir werden – wie beim letzten Treffen besprochen – uns gemeinsam sowohl die „Lisa-Tetzner-Schule mit dem Förderschwerpunkt geistige Entwicklung“ ansehen als auch Personal und didaktische bzw. pädagogische Möglichkeiten kennenlernen.\nAdressatenkreis\nLehrkräfte\, Netzwerkpartnerinnen und -partner\, Schulaufsicht
URL:https://zki.iris-ev.de/veranstaltungskalender/netzwerktreffen-kooperationsverbund-zittau/
LOCATION:Lisa-Tetzner-Schule mit dem Förderschwerpunkt geistige Entwicklung\, Goethestraße 28\, Zittau\, 02763
CATEGORIES:in Präsenz,Netzwerktreffen
END:VEVENT
END:VCALENDAR