BEGIN:VCALENDAR
VERSION:2.0
PRODID:-//ZKI - ECPv6.15.20//NONSGML v1.0//EN
CALSCALE:GREGORIAN
METHOD:PUBLISH
X-WR-CALNAME:ZKI
X-ORIGINAL-URL:https://zki.iris-ev.de
X-WR-CALDESC:Veranstaltungen für ZKI
REFRESH-INTERVAL;VALUE=DURATION:PT1H
X-Robots-Tag:noindex
X-PUBLISHED-TTL:PT1H
BEGIN:VTIMEZONE
TZID:Europe/Berlin
BEGIN:DAYLIGHT
TZOFFSETFROM:+0100
TZOFFSETTO:+0200
TZNAME:CEST
DTSTART:20250330T010000
END:DAYLIGHT
BEGIN:STANDARD
TZOFFSETFROM:+0200
TZOFFSETTO:+0100
TZNAME:CET
DTSTART:20251026T010000
END:STANDARD
BEGIN:DAYLIGHT
TZOFFSETFROM:+0100
TZOFFSETTO:+0200
TZNAME:CEST
DTSTART:20260329T010000
END:DAYLIGHT
BEGIN:STANDARD
TZOFFSETFROM:+0200
TZOFFSETTO:+0100
TZNAME:CET
DTSTART:20261025T010000
END:STANDARD
BEGIN:DAYLIGHT
TZOFFSETFROM:+0100
TZOFFSETTO:+0200
TZNAME:CEST
DTSTART:20270328T010000
END:DAYLIGHT
BEGIN:STANDARD
TZOFFSETFROM:+0200
TZOFFSETTO:+0100
TZNAME:CET
DTSTART:20271031T010000
END:STANDARD
END:VTIMEZONE
BEGIN:VEVENT
DTSTART;VALUE=DATE:20260505
DTEND;VALUE=DATE:20260506
DTSTAMP:20260423T140144
CREATED:20260422T234850Z
LAST-MODIFIED:20260422T234941Z
UID:8935-1777939200-1778025599@zki.iris-ev.de
SUMMARY:Inklusives Schulkino
DESCRIPTION:Veranstaltung des Kooperationsverbundes NSN 4 Torgau \nInhalt\nZur Woche der Inklusion in Torgau bieten wir ein besonderes Schulkino-Erlebnis\, das Schülerinnen und Schüler verschiedener Schulen zusammenbringt. \nIm Mittelpunkt steht der Film „Alles außer gewöhnlich“\, eine warmherzige und zugleich kraftvolle Geschichte über Freundschaft\, Verantwortung und die Bedeutung echter Teilhabe. Der Film erzählt von zwei engagierten Sozialarbeitern\, die junge Menschen mit schweren Autismus-Spektrum-Störungen begleiten. Ihre Arbeit zeigt\, wie wichtig Vertrauen\, Geduld und kreative Lösungswege sind\, um jedem Menschen ein Leben in Würde und Selbstbestimmung zu ermöglichen. \nDas inklusive Schulkino bietet die Chance\, sich gemeinsam mit den Themen Vielfalt\, Respekt und Zusammenhalt auseinanderzusetzen. \nAdressatenkreis\nLehrkäfte\, Schülerinnen und Schüler
URL:https://zki.iris-ev.de/veranstaltungskalender/inklusives-schulkino/
LOCATION:Soziokulturelles Zentrum Kulturbastion\, Straße der Jugend 14B\, Torgau\, 04860
CATEGORIES:in Präsenz
END:VEVENT
END:VCALENDAR