BEGIN:VCALENDAR
VERSION:2.0
PRODID:-//ZKI - ECPv6.15.20//NONSGML v1.0//EN
CALSCALE:GREGORIAN
METHOD:PUBLISH
X-WR-CALNAME:ZKI
X-ORIGINAL-URL:https://zki.iris-ev.de
X-WR-CALDESC:Veranstaltungen für ZKI
REFRESH-INTERVAL;VALUE=DURATION:PT1H
X-Robots-Tag:noindex
X-PUBLISHED-TTL:PT1H
BEGIN:VTIMEZONE
TZID:Europe/Berlin
BEGIN:DAYLIGHT
TZOFFSETFROM:+0100
TZOFFSETTO:+0200
TZNAME:CEST
DTSTART:20250330T010000
END:DAYLIGHT
BEGIN:STANDARD
TZOFFSETFROM:+0200
TZOFFSETTO:+0100
TZNAME:CET
DTSTART:20251026T010000
END:STANDARD
BEGIN:DAYLIGHT
TZOFFSETFROM:+0100
TZOFFSETTO:+0200
TZNAME:CEST
DTSTART:20260329T010000
END:DAYLIGHT
BEGIN:STANDARD
TZOFFSETFROM:+0200
TZOFFSETTO:+0100
TZNAME:CET
DTSTART:20261025T010000
END:STANDARD
BEGIN:DAYLIGHT
TZOFFSETFROM:+0100
TZOFFSETTO:+0200
TZNAME:CEST
DTSTART:20270328T010000
END:DAYLIGHT
BEGIN:STANDARD
TZOFFSETFROM:+0200
TZOFFSETTO:+0100
TZNAME:CET
DTSTART:20271031T010000
END:STANDARD
END:VTIMEZONE
BEGIN:VEVENT
DTSTART;TZID=Europe/Berlin:20260401T140000
DTEND;TZID=Europe/Berlin:20260401T160000
DTSTAMP:20260422T103710
CREATED:20251006T221529Z
LAST-MODIFIED:20260119T015654Z
UID:5993-1775052000-1775059200@zki.iris-ev.de
SUMMARY:Inklusionssprechstunde - Kooperationsverbund Plauen
DESCRIPTION:regelmäßige Veranstaltung des Kooperationsverbundes Plauen \nInhalt\nWir beantworten Fragen rund um das Thema Inklusion. \nAdressatenkreis\nEltern\, Lehrkräfte\, Netzwerkpartnerinnen und -partner
URL:https://zki.iris-ev.de/veranstaltungskalender/inklusionssprechstunde-2/
CATEGORIES:Beratung,Fallberatung,in Präsenz
END:VEVENT
END:VCALENDAR