BEGIN:VCALENDAR
VERSION:2.0
PRODID:-//ZKI - ECPv6.15.20//NONSGML v1.0//EN
CALSCALE:GREGORIAN
METHOD:PUBLISH
X-WR-CALNAME:ZKI
X-ORIGINAL-URL:https://zki.iris-ev.de
X-WR-CALDESC:Veranstaltungen für ZKI
REFRESH-INTERVAL;VALUE=DURATION:PT1H
X-Robots-Tag:noindex
X-PUBLISHED-TTL:PT1H
BEGIN:VTIMEZONE
TZID:Europe/Berlin
BEGIN:DAYLIGHT
TZOFFSETFROM:+0100
TZOFFSETTO:+0200
TZNAME:CEST
DTSTART:20250330T010000
END:DAYLIGHT
BEGIN:STANDARD
TZOFFSETFROM:+0200
TZOFFSETTO:+0100
TZNAME:CET
DTSTART:20251026T010000
END:STANDARD
BEGIN:DAYLIGHT
TZOFFSETFROM:+0100
TZOFFSETTO:+0200
TZNAME:CEST
DTSTART:20260329T010000
END:DAYLIGHT
BEGIN:STANDARD
TZOFFSETFROM:+0200
TZOFFSETTO:+0100
TZNAME:CET
DTSTART:20261025T010000
END:STANDARD
BEGIN:DAYLIGHT
TZOFFSETFROM:+0100
TZOFFSETTO:+0200
TZNAME:CEST
DTSTART:20270328T010000
END:DAYLIGHT
BEGIN:STANDARD
TZOFFSETFROM:+0200
TZOFFSETTO:+0100
TZNAME:CET
DTSTART:20271031T010000
END:STANDARD
END:VTIMEZONE
BEGIN:VEVENT
DTSTART;TZID=Europe/Berlin:20260422T090000
DTEND;TZID=Europe/Berlin:20260422T110000
DTSTAMP:20260422T122730
CREATED:20260328T180415Z
LAST-MODIFIED:20260328T180736Z
UID:8718-1776848400-1776855600@zki.iris-ev.de
SUMMARY:Informationstreffen Mobile Lernwerkstatt
DESCRIPTION:gemeinsame Veranstaltung der Kooperationsverbünde NSN 1 Delitzsch\, NSN 2 Eilenburg\, NSN 4 Torgau \nInhalt\ngeschlossene Online-Veranstaltung für Moderatorinnen und Moderatoren sowie Fachberaterinnen und Fachberater zur Information über die Mobile Lernwerkstatt \nAdressatenkreis\nModeratorinnen und Moderatoren\, Netzwerkpartnerinnen und -partner
URL:https://zki.iris-ev.de/veranstaltungskalender/informationstreffen-mobile-lernwerkstatt/
CATEGORIES:digital,Fachaustausch,Informationsveranstaltung
END:VEVENT
END:VCALENDAR