BEGIN:VCALENDAR
VERSION:2.0
PRODID:-//ZKI - ECPv6.15.20//NONSGML v1.0//EN
CALSCALE:GREGORIAN
METHOD:PUBLISH
X-WR-CALNAME:ZKI
X-ORIGINAL-URL:https://zki.iris-ev.de
X-WR-CALDESC:Veranstaltungen für ZKI
REFRESH-INTERVAL;VALUE=DURATION:PT1H
X-Robots-Tag:noindex
X-PUBLISHED-TTL:PT1H
BEGIN:VTIMEZONE
TZID:Europe/Berlin
BEGIN:DAYLIGHT
TZOFFSETFROM:+0100
TZOFFSETTO:+0200
TZNAME:CEST
DTSTART:20250330T010000
END:DAYLIGHT
BEGIN:STANDARD
TZOFFSETFROM:+0200
TZOFFSETTO:+0100
TZNAME:CET
DTSTART:20251026T010000
END:STANDARD
BEGIN:DAYLIGHT
TZOFFSETFROM:+0100
TZOFFSETTO:+0200
TZNAME:CEST
DTSTART:20260329T010000
END:DAYLIGHT
BEGIN:STANDARD
TZOFFSETFROM:+0200
TZOFFSETTO:+0100
TZNAME:CET
DTSTART:20261025T010000
END:STANDARD
BEGIN:DAYLIGHT
TZOFFSETFROM:+0100
TZOFFSETTO:+0200
TZNAME:CEST
DTSTART:20270328T010000
END:DAYLIGHT
BEGIN:STANDARD
TZOFFSETFROM:+0200
TZOFFSETTO:+0100
TZNAME:CET
DTSTART:20271031T010000
END:STANDARD
END:VTIMEZONE
BEGIN:VEVENT
DTSTART;TZID=Europe/Berlin:20260107T080000
DTEND;TZID=Europe/Berlin:20260107T100000
DTSTAMP:20260420T141651
CREATED:20260114T091849Z
LAST-MODIFIED:20260114T091849Z
UID:6927-1767772800-1767780000@zki.iris-ev.de
SUMMARY:Gewaltpräventionsprojekt von Partnerschulen
DESCRIPTION:Veranstaltung des Kooperationsverbundes Landkreis Vogtland 4 Reichenbach \nInhalt\nGerade in der heutigen Zeit\, in der immer weniger Werte und Tugenden vermittelt werden\, jeder gestresst ist oder sich nicht verstanden fühlt\, ist es für Kinder und Jugendliche wichtig\, dass wir ihnen als Vorbild zur Seite stehen. \nDazu bedarf es auch einer Haltung bei den Pädagogen. \nEs werden mit dem Kurs alte Denkmuster durchbrochen und neue Impulse gesetzt. Mit Hilfe des mehrstufigen Vorgehens des Veranstalters in Konfliktsituationen\, wird den Schülerinnen und Schülern Möglichkeiten aufgezeigt\, Streitigkeiten aus dem Weg zu gehen oder diese im Ansatz zu verhindern bzw. zu beenden. \nDozent\nThomas Hedrich \nAdressatenkreis\nLehrkräfte\, Netzwerkpartnerinnen und -partner\, Schülerinnen und Schüler
URL:https://zki.iris-ev.de/veranstaltungskalender/gewaltpraeventionsprojekt-von-partnerschulen/
LOCATION:Pestalozzischule Förderzentrum mit dem Förderschwerpunkt Lernen\, Dammsteinstraße 45\, Reichenbach im Vogtland\, 08468
CATEGORIES:in Präsenz,Workshop
END:VEVENT
END:VCALENDAR