BEGIN:VCALENDAR
VERSION:2.0
PRODID:-//ZKI - ECPv6.15.20//NONSGML v1.0//EN
CALSCALE:GREGORIAN
METHOD:PUBLISH
X-WR-CALNAME:ZKI
X-ORIGINAL-URL:https://zki.iris-ev.de
X-WR-CALDESC:Veranstaltungen für ZKI
REFRESH-INTERVAL;VALUE=DURATION:PT1H
X-Robots-Tag:noindex
X-PUBLISHED-TTL:PT1H
BEGIN:VTIMEZONE
TZID:Europe/Berlin
BEGIN:DAYLIGHT
TZOFFSETFROM:+0100
TZOFFSETTO:+0200
TZNAME:CEST
DTSTART:20250330T010000
END:DAYLIGHT
BEGIN:STANDARD
TZOFFSETFROM:+0200
TZOFFSETTO:+0100
TZNAME:CET
DTSTART:20251026T010000
END:STANDARD
BEGIN:DAYLIGHT
TZOFFSETFROM:+0100
TZOFFSETTO:+0200
TZNAME:CEST
DTSTART:20260329T010000
END:DAYLIGHT
BEGIN:STANDARD
TZOFFSETFROM:+0200
TZOFFSETTO:+0100
TZNAME:CET
DTSTART:20261025T010000
END:STANDARD
BEGIN:DAYLIGHT
TZOFFSETFROM:+0100
TZOFFSETTO:+0200
TZNAME:CEST
DTSTART:20270328T010000
END:DAYLIGHT
BEGIN:STANDARD
TZOFFSETFROM:+0200
TZOFFSETTO:+0100
TZNAME:CET
DTSTART:20271031T010000
END:STANDARD
END:VTIMEZONE
BEGIN:VEVENT
DTSTART;TZID=Europe/Berlin:20260416T080000
DTEND;TZID=Europe/Berlin:20260416T143000
DTSTAMP:20260422T122435
CREATED:20260101T232212Z
LAST-MODIFIED:20260304T234646Z
UID:6670-1776326400-1776349800@zki.iris-ev.de
SUMMARY:Fachtag Inklusion für Grund- und Förderschulen am Standort Chemnitz
DESCRIPTION:Veranstaltung des LaSuB-Standortes Chemnitz \nInhalt\nDie Zahl der Kinder mit besonderen Lern‑\, Verhaltens‑ oder Wahrnehmungsbedarfen steigt – und damit auch die Anforderungen an das gemeinsame Lernen in der Grundschule. \nDer Fachtag möchte Lehrkräfte stärken\, Orientierung geben und Mut machen. Gemeinsam mit erfahrenen Expertinnen und Experten gehen wir der Frage nach\, wie schulische Teilhabe auch unter schwierigen Bedingungen gelingen kann. \nDer Eröffnungsvortrag von Prof. Dr. Udo Rudolph (TU Chemnitz) und praxisnahe Workshops bieten Hintergrundwissen\, konkrete Handlungsmöglichkeiten und Impulse für Unterricht und pädagogische Begleitung. \nReferenten\nProf. Dr. Udo Rudolph (TU Chemnitz) und weitere \nAdressatenkreis\nLehrkräfte\, Moderatorinnen und Moderatoren\, Schulaufsicht
URL:https://zki.iris-ev.de/veranstaltungskalender/fachtag-inklusion-fuer-grund-und-foerderschulen/
LOCATION:Hotel c/o 56 Chemnitz\, Salzstraße 56\, Chemnitz\, 09113
CATEGORIES:Bildungsveranstaltung,Fachaustausch,in Präsenz,Informationsveranstaltung,Workshop
END:VEVENT
END:VCALENDAR