BEGIN:VCALENDAR
VERSION:2.0
PRODID:-//ZKI - ECPv6.15.20//NONSGML v1.0//EN
CALSCALE:GREGORIAN
METHOD:PUBLISH
X-WR-CALNAME:ZKI
X-ORIGINAL-URL:https://zki.iris-ev.de
X-WR-CALDESC:Veranstaltungen für ZKI
REFRESH-INTERVAL;VALUE=DURATION:PT1H
X-Robots-Tag:noindex
X-PUBLISHED-TTL:PT1H
BEGIN:VTIMEZONE
TZID:Europe/Berlin
BEGIN:DAYLIGHT
TZOFFSETFROM:+0100
TZOFFSETTO:+0200
TZNAME:CEST
DTSTART:20250330T010000
END:DAYLIGHT
BEGIN:STANDARD
TZOFFSETFROM:+0200
TZOFFSETTO:+0100
TZNAME:CET
DTSTART:20251026T010000
END:STANDARD
BEGIN:DAYLIGHT
TZOFFSETFROM:+0100
TZOFFSETTO:+0200
TZNAME:CEST
DTSTART:20260329T010000
END:DAYLIGHT
BEGIN:STANDARD
TZOFFSETFROM:+0200
TZOFFSETTO:+0100
TZNAME:CET
DTSTART:20261025T010000
END:STANDARD
BEGIN:DAYLIGHT
TZOFFSETFROM:+0100
TZOFFSETTO:+0200
TZNAME:CEST
DTSTART:20270328T010000
END:DAYLIGHT
BEGIN:STANDARD
TZOFFSETFROM:+0200
TZOFFSETTO:+0100
TZNAME:CET
DTSTART:20271031T010000
END:STANDARD
END:VTIMEZONE
BEGIN:VEVENT
DTSTART;TZID=Europe/Berlin:20260506T140000
DTEND;TZID=Europe/Berlin:20260506T160000
DTSTAMP:20260422T123114
CREATED:20251007T003220Z
LAST-MODIFIED:20251020T124116Z
UID:6030-1778076000-1778083200@zki.iris-ev.de
SUMMARY:Fachaustausch Autismus Chemnitz
DESCRIPTION:Inhalt\nZusammenarbeit mit dem Autismuszentrum Chemnitz\, 45minütiger Fachvortrag und Fachaustausch im Anschluss \nAdressatenkreis\nEltern\, Lehrkräfte\, Netzwerkpartnerinnen und -partner
URL:https://zki.iris-ev.de/veranstaltungskalender/fachaustausch-autismus-chemnitz/
LOCATION:Medienpädagogisches Zentrum Chemnitz\, Ritterstraße 7\, Chemnitz OT Zentrum\, 09111
CATEGORIES:Fachaustausch,in Präsenz,Informationsveranstaltung,Netzwerktreffen,Vortrag
END:VEVENT
END:VCALENDAR