BEGIN:VCALENDAR
VERSION:2.0
PRODID:-//ZKI - ECPv6.15.20//NONSGML v1.0//EN
CALSCALE:GREGORIAN
METHOD:PUBLISH
X-WR-CALNAME:ZKI
X-ORIGINAL-URL:https://zki.iris-ev.de
X-WR-CALDESC:Veranstaltungen für ZKI
REFRESH-INTERVAL;VALUE=DURATION:PT1H
X-Robots-Tag:noindex
X-PUBLISHED-TTL:PT1H
BEGIN:VTIMEZONE
TZID:Europe/Berlin
BEGIN:DAYLIGHT
TZOFFSETFROM:+0100
TZOFFSETTO:+0200
TZNAME:CEST
DTSTART:20250330T010000
END:DAYLIGHT
BEGIN:STANDARD
TZOFFSETFROM:+0200
TZOFFSETTO:+0100
TZNAME:CET
DTSTART:20251026T010000
END:STANDARD
BEGIN:DAYLIGHT
TZOFFSETFROM:+0100
TZOFFSETTO:+0200
TZNAME:CEST
DTSTART:20260329T010000
END:DAYLIGHT
BEGIN:STANDARD
TZOFFSETFROM:+0200
TZOFFSETTO:+0100
TZNAME:CET
DTSTART:20261025T010000
END:STANDARD
BEGIN:DAYLIGHT
TZOFFSETFROM:+0100
TZOFFSETTO:+0200
TZNAME:CEST
DTSTART:20270328T010000
END:DAYLIGHT
BEGIN:STANDARD
TZOFFSETFROM:+0200
TZOFFSETTO:+0100
TZNAME:CET
DTSTART:20271031T010000
END:STANDARD
END:VTIMEZONE
BEGIN:VEVENT
DTSTART;TZID=Europe/Berlin:20260513T140000
DTEND;TZID=Europe/Berlin:20260513T173000
DTSTAMP:20260422T153101
CREATED:20260201T013951Z
LAST-MODIFIED:20260201T013951Z
UID:7632-1778680800-1778693400@zki.iris-ev.de
SUMMARY:"Das macht Kind mit links" - Vertiefungsworkshop
DESCRIPTION:gemeinsame Veranstaltung der Kooperationsverbünde MSN 1 Freiberg und MSN 2 Flöha \nInhalt\nDer Workshop vermittelt aufbauend auf dem ersten Teil grundlegendes Wissen zur Entwicklung und Bedeutung der Händigkeit. \nDie Referentin zeigt praxisnah\, wie Händigkeit sicher eingeschätzt und im Lernalltag berücksichtigt werden kann. \nÜbungen und Beispiele unterstützen die Teilnehmenden dabei\, Kinder und Jugendliche gezielt zu begleiten. \nReferentin\nBirgit Kretschmer \nAdressatenkreis\nLehrkräfte\, Netzwerkpartnerinnen und -partner\, Fachkräfte von Kindertagesstätten und Hort
URL:https://zki.iris-ev.de/veranstaltungskalender/das-macht-kind-mit-links-vertiefungsworkshop/
LOCATION:Samuel-von-Pufendorf-Gymnasium Flöha\, Turnerstraße 16\, Flöha\, 09557
CATEGORIES:Fachaustausch,in Präsenz,Workshop
END:VEVENT
END:VCALENDAR