BEGIN:VCALENDAR
VERSION:2.0
PRODID:-//ZKI - ECPv6.15.20//NONSGML v1.0//EN
CALSCALE:GREGORIAN
METHOD:PUBLISH
X-WR-CALNAME:ZKI
X-ORIGINAL-URL:https://zki.iris-ev.de
X-WR-CALDESC:Veranstaltungen für ZKI
REFRESH-INTERVAL;VALUE=DURATION:PT1H
X-Robots-Tag:noindex
X-PUBLISHED-TTL:PT1H
BEGIN:VTIMEZONE
TZID:Europe/Berlin
BEGIN:DAYLIGHT
TZOFFSETFROM:+0100
TZOFFSETTO:+0200
TZNAME:CEST
DTSTART:20250330T010000
END:DAYLIGHT
BEGIN:STANDARD
TZOFFSETFROM:+0200
TZOFFSETTO:+0100
TZNAME:CET
DTSTART:20251026T010000
END:STANDARD
BEGIN:DAYLIGHT
TZOFFSETFROM:+0100
TZOFFSETTO:+0200
TZNAME:CEST
DTSTART:20260329T010000
END:DAYLIGHT
BEGIN:STANDARD
TZOFFSETFROM:+0200
TZOFFSETTO:+0100
TZNAME:CET
DTSTART:20261025T010000
END:STANDARD
BEGIN:DAYLIGHT
TZOFFSETFROM:+0100
TZOFFSETTO:+0200
TZNAME:CEST
DTSTART:20270328T010000
END:DAYLIGHT
BEGIN:STANDARD
TZOFFSETFROM:+0200
TZOFFSETTO:+0100
TZNAME:CET
DTSTART:20271031T010000
END:STANDARD
END:VTIMEZONE
BEGIN:VEVENT
DTSTART;TZID=Europe/Berlin:20260428T150000
DTEND;TZID=Europe/Berlin:20260428T170000
DTSTAMP:20260421T023219
CREATED:20260328T184736Z
LAST-MODIFIED:20260328T184736Z
UID:8735-1777388400-1777395600@zki.iris-ev.de
SUMMARY:Abschlussbestimmungen zum Förderschwerpunkt Lernen
DESCRIPTION:gemeinsame Veranstaltung der Kooperationsverbünde LKV 1 Oberes Vogtland\, LKV 2 Plauen \nAdressatenkreis\nLehrkräfte
URL:https://zki.iris-ev.de/veranstaltungskalender/abschlussbestimmungen-zum-foerderschwerpunkt-lernen/
LOCATION:Evangelische Montessori Oberschule Plauen\, Anton-Kraus-Straße 18\, Plauen OT Chrieschwitz\, 08529
CATEGORIES:Beratung,in Präsenz
END:VEVENT
END:VCALENDAR