BEGIN:VCALENDAR
VERSION:2.0
PRODID:-//ZKI - ECPv6.15.20//NONSGML v1.0//EN
CALSCALE:GREGORIAN
METHOD:PUBLISH
X-WR-CALNAME:ZKI
X-ORIGINAL-URL:https://zki.iris-ev.de
X-WR-CALDESC:Veranstaltungen für ZKI
REFRESH-INTERVAL;VALUE=DURATION:PT1H
X-Robots-Tag:noindex
X-PUBLISHED-TTL:PT1H
BEGIN:VTIMEZONE
TZID:Europe/Berlin
BEGIN:DAYLIGHT
TZOFFSETFROM:+0100
TZOFFSETTO:+0200
TZNAME:CEST
DTSTART:20250330T010000
END:DAYLIGHT
BEGIN:STANDARD
TZOFFSETFROM:+0200
TZOFFSETTO:+0100
TZNAME:CET
DTSTART:20251026T010000
END:STANDARD
BEGIN:DAYLIGHT
TZOFFSETFROM:+0100
TZOFFSETTO:+0200
TZNAME:CEST
DTSTART:20260329T010000
END:DAYLIGHT
BEGIN:STANDARD
TZOFFSETFROM:+0200
TZOFFSETTO:+0100
TZNAME:CET
DTSTART:20261025T010000
END:STANDARD
BEGIN:DAYLIGHT
TZOFFSETFROM:+0100
TZOFFSETTO:+0200
TZNAME:CEST
DTSTART:20270328T010000
END:DAYLIGHT
BEGIN:STANDARD
TZOFFSETFROM:+0200
TZOFFSETTO:+0100
TZNAME:CET
DTSTART:20271031T010000
END:STANDARD
END:VTIMEZONE
BEGIN:VEVENT
DTSTART;TZID=Europe/Berlin:20260420T150000
DTEND;TZID=Europe/Berlin:20260420T170000
DTSTAMP:20260420T142235
CREATED:20260118T231425Z
LAST-MODIFIED:20260119T002917Z
UID:10000173-1776697200-1776704400@zki.iris-ev.de
SUMMARY:Netzwerktreffen Kooperationsverbund Kamenz
DESCRIPTION:Veranstaltung des Kooperationsverbundes Kamenz \nInhalt\nZum anstehenden Netzwerktreffen wird Frau Breitkopf als Referentin zum Thema „Freie Keulenbergschule als Modell für Inklusion – mit allen Herausforderungen und Erfolgen“ sprechen. \nWährend der Veranstaltung wird ausreichend Zeit sein\, um Ihre Fragen zu klären und in den Austausch zu kommen. \nReferentin\nFrau Breitkopf \nAdressatenkreis\nLehrkräfte\, Netzwerkpartnerinnen und -partner
URL:https://zki.iris-ev.de/veranstaltungskalender/netzwerktreffen-3/
LOCATION:Freie Keulenbergschule\,  Evangelische Grundschule und Oberschule\, Pulsnitzer Straße 1\, Großnaundorf\, 01936
CATEGORIES:in Präsenz,Netzwerktreffen
END:VEVENT
BEGIN:VEVENT
DTSTART;TZID=Europe/Berlin:20260420T160000
DTEND;TZID=Europe/Berlin:20260420T190000
DTSTAMP:20260420T142235
CREATED:20260328T181839Z
LAST-MODIFIED:20260328T181839Z
UID:10000277-1776700800-1776711600@zki.iris-ev.de
SUMMARY:Stärkung neuromotorischer Voraussetzungen für Lernen und  Entwicklung in der Kindheit - Wissen. Erkennen. Anwenden.  Modul 1
DESCRIPTION:Veranstaltung des Kooperationsverbundes ERZ 4 Schwarzenberg \nInhalt\nDie individuellen und gesellschaftlichen Herausforderungen der Kinder nehmen stetig zu. Gleichzeitig – und auch in Folge dessen – zeigen immer mehr Kinder spätestens mit Eintritt in die Schule Schwierigkeiten wie: \n– Unsicherheiten in Körper- und Raumwahrnehmung \n– eingeschränkte Konzentrationsfähigkeit \n– Probleme beim Lesen\, Schreiben und Rechnen lernen \n– motorische Unruhe \n– Verhaltensauffälligkeiten \nDas stellt nicht nur die Kinder\, sondern auch ihre Eltern sowie auch die pädagogischen Fachkräfte in Kita und Schule vor immer größere Probleme. Neue Erklärungsansätze und Lösungsstrategien im häuslichen und pädagogischen Alltag müssen dringend vermittelt und ausprobiert werden. \nAdressatenkreis\nLehrkräfte\, Netzwerkpartnerinnen und -partner
URL:https://zki.iris-ev.de/veranstaltungskalender/staerkung-neuromotorischer-voraussetzungen-fuer-lernen-und-entwicklung-in-der-kindheit-wissen-erkennen-anwenden-modul-1/
LOCATION:Stadtwerke Schwarzenberg\, Straße der Einheit 42\, Schwarzenberg\, 08340
CATEGORIES:Bildungsveranstaltung,in Präsenz,Informationsveranstaltung
END:VEVENT
END:VCALENDAR